BEGIN:VCALENDAR
VERSION:2.0
PRODID:-//pretalx//pretalx.com//cepol-online-conference-2021//8RUXFF
BEGIN:VTIMEZONE
TZID:Europe/Budapest
BEGIN:STANDARD
DTSTART:20001029T030000
RRULE:FREQ=YEARLY;BYDAY=-1SU;BYMONTH=10
TZNAME:CET
TZOFFSETFROM:+0200
TZOFFSETTO:+0100
END:STANDARD
BEGIN:DAYLIGHT
DTSTART:20000326T020000
RRULE:FREQ=YEARLY;BYDAY=-1SU;BYMONTH=3
TZNAME:CEST
TZOFFSETFROM:+0100
TZOFFSETTO:+0200
END:DAYLIGHT
END:VTIMEZONE
BEGIN:VEVENT
UID:pretalx-cepol-online-conference-2021-QZNU3X@conference.cepol.europa.eu
DTSTART;TZID=Europe/Budapest:20210507T150000
DTEND;TZID=Europe/Budapest:20210507T151000
DESCRIPTION:Police intelligence structures are faced with unprecedented dif
 ficulties in obtaining initial\, reliable and suitable for analysis intell
 igence information. The new circumstances and unpredictable socio-economic
  factors determined by the COVID-19 pandemic\, create the need for optimiz
 ation of police intelligence and criminal information. Anticipatory inform
 ation to police and security agencies on biosecurity and bioterrorism will
  be of paramount importance and invaluable. Due to epidemiological and hea
 lth protection restrictions meetings with police informants and undercover
  operatives are maintained in conditions of uncertainty and with limited c
 onspiracy opportunities\, this way making the risk of contact disclosure e
 normously high. The reduction of direct contacts with sources of police in
 telligence information will have deep and difficult to recover consequence
 s.\nThis will influence the police intelligence process by limiting HUMINT
  sources and increasing SOCMINT and open source intelligence information\,
  but intelligence analysis will need to filter fake news and online misinf
 ormation.
DTSTAMP:20210426T124900Z
LOCATION:Lessons (to be) Learnt for Management and Organisation
SUMMARY:Police Intelligence Challenges during COVID-19 Pandemic - Svetlozar
  Markov
URL:https://conference.cepol.europa.eu/cepol-online-conference-2021/talk/QZ
 NU3X/
END:VEVENT
END:VCALENDAR
