BEGIN:VCALENDAR
VERSION:2.0
PRODID:-//pretalx//pretalx.com//cepol-online-conference-2021//9QX3BM
BEGIN:VTIMEZONE
TZID:Europe/Budapest
BEGIN:STANDARD
DTSTART:20001029T030000
RRULE:FREQ=YEARLY;BYDAY=-1SU;BYMONTH=10
TZNAME:CET
TZOFFSETFROM:+0200
TZOFFSETTO:+0100
END:STANDARD
BEGIN:DAYLIGHT
DTSTART:20000326T020000
RRULE:FREQ=YEARLY;BYDAY=-1SU;BYMONTH=3
TZNAME:CEST
TZOFFSETFROM:+0100
TZOFFSETTO:+0200
END:DAYLIGHT
END:VTIMEZONE
BEGIN:VEVENT
UID:pretalx-cepol-online-conference-2021-M37DLW@conference.cepol.europa.eu
DTSTART;TZID=Europe/Budapest:20210506T092500
DTEND;TZID=Europe/Budapest:20210506T094500
DESCRIPTION:H2020 ANITA Project (https://www.anita-project.eu/) is developi
 ng Advanced Tools for fighting online illegal trafficking\, with a special
  focus on drugs\, NPS and medicines\, firearms and terrorists financing. \
 nDue to COVID-19\, the project has been forced to reorganise the training 
 activities for EU LEAs from in-person events to online sessions. Feedbacks
  from the participants have already been assessed and interesting insight 
 have emerged. On the basis of this experience and considering also the pos
 itive and negative implications of online training\, the project is develo
 ping new curricula to be proposed to better address LEAs in-formative need
 s and requirements about illegal trafficking activities facilitated by the
  online environment. The presentation will focus on the ANITA project expe
 rience and the new approach to training it is developing
DTSTAMP:20210426T124942Z
LOCATION:Training and Education during after the Pandemic Crisis
SUMMARY:Training and Education during the Pandemic Crisis: H2020 ANITA Proj
 ect experience - Mara Mignone\, Valentina Scioneri
URL:https://conference.cepol.europa.eu/cepol-online-conference-2021/talk/M3
 7DLW/
END:VEVENT
END:VCALENDAR
