BEGIN:VCALENDAR
VERSION:2.0
PRODID:-//pretalx//pretalx.com//cepol-online-conference-2021//9VXAD7
BEGIN:VTIMEZONE
TZID:Europe/Budapest
BEGIN:STANDARD
DTSTART:20001029T030000
RRULE:FREQ=YEARLY;BYDAY=-1SU;BYMONTH=10
TZNAME:CET
TZOFFSETFROM:+0200
TZOFFSETTO:+0100
END:STANDARD
BEGIN:DAYLIGHT
DTSTART:20000326T020000
RRULE:FREQ=YEARLY;BYDAY=-1SU;BYMONTH=3
TZNAME:CEST
TZOFFSETFROM:+0100
TZOFFSETTO:+0200
END:DAYLIGHT
END:VTIMEZONE
BEGIN:VEVENT
UID:pretalx-cepol-online-conference-2021-C87R8G@conference.cepol.europa.eu
DTSTART;TZID=Europe/Budapest:20210507T100000
DTEND;TZID=Europe/Budapest:20210507T102000
DESCRIPTION:The COVID crisis is unprecedented by its impact on population a
 nd territories. In this context the French Gendarmerie had to implement\, 
 beyond its usual tasks\, the obligations linked to lockdown.\n\nThe main p
 urpose was to elaborate and ensure a tailored security offer that ensure s
 olidarity and cohesion  throughout our country.\n\nThat’s the reason why
  the #RépondrePrésent operation has been planned and conducted for the h
 alf part of the French population falling under the responsibility of the 
 French Gendarmerie.\n\nThe Gendarmerie’s operational answer to our terri
 tories’ concerns led us to listen\, anticipate and help :\n- the mayors 
 and local officials through their mandates and their local initiatives\n- 
 the most fragile and vulnerable people (face-face meeting and digital comm
 unication\, particularly for victims of domestic violence \; help for elde
 st people \; logistic support operations for food or medics)\n- the medica
 l and nursing staff (protection in case of trouble \; logistic support \; 
 protection of the stocks of masks or vaccine to prevent offences and crimi
 nal acts such as robbery)\n- the economic actors (protect the various comp
 anies or facilitate supply chain\, prevent and/or detect cyberattacks)\n\n
 In these cases\, several innovative actions have been initiated which key 
 factors were to\n- act in close cooperation with local partners through a 
 local decision making process\;\n- federate and mobilize capacities of our
  operational reserve while fostering the continuum of security with other 
 forces (local police\, private security sector)\n\n“For the population a
 nd by the gendarme” is our natural way of thinking. This motto is all th
 e more appropriate in times of crisis as public service’s duty is to gua
 rantee security and solidarity. This implies that in times of crisis\, we 
 have to carry out missions far beyond our traditional sphere of activity. 
 This is\, ultimately\, the main goal of the  #RépondrePrésent operation:
  being helpful to citizens.
DTSTAMP:20210426T125023Z
LOCATION:Public Relations and Public Order
SUMMARY:#RépondrePrésent operation: being helpful to citizens - William D
 e Meyer
URL:https://conference.cepol.europa.eu/cepol-online-conference-2021/talk/C8
 7R8G/
END:VEVENT
END:VCALENDAR
