BEGIN:VCALENDAR
VERSION:2.0
PRODID:-//pretalx//pretalx.com//cepol-online-conference-2021//CHBHUJ
BEGIN:VTIMEZONE
TZID:Europe/Budapest
BEGIN:STANDARD
DTSTART:20001029T030000
RRULE:FREQ=YEARLY;BYDAY=-1SU;BYMONTH=10
TZNAME:CET
TZOFFSETFROM:+0200
TZOFFSETTO:+0100
END:STANDARD
BEGIN:DAYLIGHT
DTSTART:20000326T020000
RRULE:FREQ=YEARLY;BYDAY=-1SU;BYMONTH=3
TZNAME:CEST
TZOFFSETFROM:+0100
TZOFFSETTO:+0200
END:DAYLIGHT
END:VTIMEZONE
BEGIN:VEVENT
UID:pretalx-cepol-online-conference-2021-EFRURL@conference.cepol.europa.eu
DTSTART;TZID=Europe/Budapest:20210505T153000
DTEND;TZID=Europe/Budapest:20210505T155000
DESCRIPTION:2020 and the COVID-19 pandemic marked a turning point in people
 s’ information consumption habits.\nIn an environment of extreme enforce
 d isolation due to the COVID-19 pandemic\, people have increasingly been c
 ompelled to turn to online sources for information and guidance. Online ne
 ws consumption rose considerably as quarantines began. \nSocial media\, al
 ready one of the primary venues of social activity for millions of people 
 who could no longer meet and talk in person\, naturally became a primary s
 ource for news.\nIn this environment\, misinformation and disinformation h
 as flourished enormously. \nFor tens of millions\, they face not only the 
 effects on long term social isolation\, but also the economic anxiety as t
 hey face an uncertain future in a fast-changing economy that threatens to 
 leave many behind.\nAll of these factors have combined to create a “perf
 ect storm” which is making more people vulnerable to disinformation camp
 aigns.\nThese “campaigns” are a threat to our democracies and our way 
 of life. They create social unrest\, alarmism\, disbelief\, chaos and unde
 rmine public security eroding the global standing of liberal democracies. 
 What could be the role of the law enforcement agencies\, governments and t
 he European Union? Are they sufficient aware of these menaces? Are they al
 ready tackling these challenges? In this paper we will try to answer those
  questions and propose some policy actions.
DTSTAMP:20210426T124921Z
LOCATION:Lessons (to be) Learnt for Management and Organisation
SUMMARY:Disinformation campaigns and fake news in pandemic times. What role
  for law enforcement and security forces? - José Francisco Pavia\, Timoth
 y Reno
URL:https://conference.cepol.europa.eu/cepol-online-conference-2021/talk/EF
 RURL/
END:VEVENT
END:VCALENDAR
