BEGIN:VCALENDAR
VERSION:2.0
PRODID:-//pretalx//pretalx.com//cepol-online-conference-2021//PMAEE8
BEGIN:VTIMEZONE
TZID:Europe/Budapest
BEGIN:STANDARD
DTSTART:20001029T030000
RRULE:FREQ=YEARLY;BYDAY=-1SU;BYMONTH=10
TZNAME:CET
TZOFFSETFROM:+0200
TZOFFSETTO:+0100
END:STANDARD
BEGIN:DAYLIGHT
DTSTART:20000326T020000
RRULE:FREQ=YEARLY;BYDAY=-1SU;BYMONTH=3
TZNAME:CEST
TZOFFSETFROM:+0100
TZOFFSETTO:+0200
END:DAYLIGHT
END:VTIMEZONE
BEGIN:VEVENT
UID:pretalx-cepol-online-conference-2021-8YT8HL@conference.cepol.europa.eu
DTSTART;TZID=Europe/Budapest:20210505T130000
DTEND;TZID=Europe/Budapest:20210505T131000
DESCRIPTION:At the very beginning of the first pandemic quarantine (the spr
 ing of 2020) the numbers of reporting domestic violence increased signific
 ally in Lithuania. Similarly increased numbers of homicide in close enviro
 nment are even more alerting. Although other countries are experiencing si
 milar shock\, however statistical data signals even more severe effects in
  our country. On the other hand\, reports on violence against children hav
 e decreased. The special requirements and limitations during lock down and
  quarantine increased the vulnerability of domestic violence victims in a 
 away that violence became even more latent. At the same time police forces
 \, standing in front lines and combating against pandemia\, encountered di
 fficulties of available personnel and operational efficiency. As a result 
 victims faced reduced accessibility to legal protection and lack of suppor
 t services. The effect of increased rates of violence is not unique to pan
 demia Covid-19 as it is correlated to different situations of crisis. This
  therefore signifies the need to develop special practices to be employed 
 by the police during crisis.
DTSTAMP:20210426T124736Z
LOCATION:Lessons (to be) Learnt for Management and Organisation
SUMMARY:Protection Against Domestic Violence: Pandemic Effects and Challeng
 es - Ramunė Jakštienė
URL:https://conference.cepol.europa.eu/cepol-online-conference-2021/talk/8Y
 T8HL/
END:VEVENT
END:VCALENDAR
