BEGIN:VCALENDAR
VERSION:2.0
PRODID:-//pretalx//pretalx.com//cepol-online-conference-2021//PULWND
BEGIN:VTIMEZONE
TZID:Europe/Budapest
BEGIN:STANDARD
DTSTART:20001029T030000
RRULE:FREQ=YEARLY;BYDAY=-1SU;BYMONTH=10
TZNAME:CET
TZOFFSETFROM:+0200
TZOFFSETTO:+0100
END:STANDARD
BEGIN:DAYLIGHT
DTSTART:20000326T020000
RRULE:FREQ=YEARLY;BYDAY=-1SU;BYMONTH=3
TZNAME:CEST
TZOFFSETFROM:+0100
TZOFFSETTO:+0200
END:DAYLIGHT
END:VTIMEZONE
BEGIN:VEVENT
UID:pretalx-cepol-online-conference-2021-QG7BRW@conference.cepol.europa.eu
DTSTART;TZID=Europe/Budapest:20210506T145500
DTEND;TZID=Europe/Budapest:20210506T150500
DESCRIPTION:The police face new kind of public order challenges due to the 
 COVID19 pandemia. Individual health security behaviour in public spaces\, 
 obedience of quarantine rules\, curfew and restrictions of movement should
  be controlled by the police. Politicians and authorities ask for help and
  assistance from the police\, in order to be able to implement national an
 d local orders and restrictions. The emerged practical challenges for the 
 police are many\, including legal issues\, resources and skills. Confusion
  and uncertainty indicate also more fundamental conceptual and theoretical
  question of what is public order and how it should be policed today? What
  kind of implications this development has to police training and educatio
 n?
DTSTAMP:20210426T124840Z
LOCATION:Public Relations and Public Order
SUMMARY:New Public Order? 	Policing curfew\, quarantines and health securit
 y threats - Sirpa Virta
URL:https://conference.cepol.europa.eu/cepol-online-conference-2021/talk/QG
 7BRW/
END:VEVENT
END:VCALENDAR
