BEGIN:VCALENDAR
VERSION:2.0
PRODID:-//pretalx//pretalx.com//cepol-online-conference-2021//RJQCCY
BEGIN:VTIMEZONE
TZID:Europe/Budapest
BEGIN:STANDARD
DTSTART:20001029T030000
RRULE:FREQ=YEARLY;BYDAY=-1SU;BYMONTH=10
TZNAME:CET
TZOFFSETFROM:+0200
TZOFFSETTO:+0100
END:STANDARD
BEGIN:DAYLIGHT
DTSTART:20000326T020000
RRULE:FREQ=YEARLY;BYDAY=-1SU;BYMONTH=3
TZNAME:CEST
TZOFFSETFROM:+0100
TZOFFSETTO:+0200
END:DAYLIGHT
END:VTIMEZONE
BEGIN:VEVENT
UID:pretalx-cepol-online-conference-2021-3TDJUV@conference.cepol.europa.eu
DTSTART;TZID=Europe/Budapest:20210507T110000
DTEND;TZID=Europe/Budapest:20210507T112000
DESCRIPTION:This presentation focuses on the analysis of results from the l
 ongitudinal study carried out at the Portuguese Military Academy concernin
 g the health and well-being of cadets of the Portuguese gendarmerie\, name
 d Guarda Nacional Republicana\, during the outbreak caused by COVID-19.\nB
 ased on available data from a survey (COVID-19 International Student Well-
 being Study) applied to all students who attended the institution in June 
 of 2020 (249 individuals - 78% of the universe) and in January 2021 (366 i
 ndividuals - 93% of the universe)\, we develop a portrait of the health an
 d well-being of future military leaders and we compare with the remaining 
 students from the Institution and others higher education institutions\, i
 n terms of living conditions\, workload\, levels of stress\, mental health
  and behaviours during the COVID-19 pandemic.\nAligned with this scope “
 Pandemic Effects on Law Enforcement Training & Practice: Taking early stoc
 k from a research perspective” we expect to finish this investigation pr
 oducing knowledge and tools to understand what is changing and what is nee
 ded to be done in the Portuguese security forces. On the other hand\, we h
 ope to recognize which are the successful measures implemented at the Port
 uguese Military Academy and the remaining challenges to guide the next ste
 ps of action\, such as monitoring the students in more fragile psychosocia
 l and well-being conditions.\n\nKEYWORDS: Military Academy\; cadets\; COVI
 D-19\; health\, well-being.
DTSTAMP:20210426T124759Z
LOCATION:Health & Safety for Law Enforcement
SUMMARY:A longitudinal study on the health and well-being of cadets from th
 e Portuguese Gendarmerie during the COVID-19 pandemic - Luis Malheiro\, Ru
 i Pereira\, Paulo Gomes
URL:https://conference.cepol.europa.eu/cepol-online-conference-2021/talk/3T
 DJUV/
END:VEVENT
END:VCALENDAR
