BEGIN:VCALENDAR
VERSION:2.0
PRODID:-//pretalx//pretalx.com//cepol-online-conference-2021//YGHAQF
BEGIN:VTIMEZONE
TZID:Europe/Budapest
BEGIN:STANDARD
DTSTART:20001029T030000
RRULE:FREQ=YEARLY;BYDAY=-1SU;BYMONTH=10
TZNAME:CET
TZOFFSETFROM:+0200
TZOFFSETTO:+0100
END:STANDARD
BEGIN:DAYLIGHT
DTSTART:20000326T020000
RRULE:FREQ=YEARLY;BYDAY=-1SU;BYMONTH=3
TZNAME:CEST
TZOFFSETFROM:+0100
TZOFFSETTO:+0200
END:DAYLIGHT
END:VTIMEZONE
BEGIN:VEVENT
UID:pretalx-cepol-online-conference-2021-JCCGMR@conference.cepol.europa.eu
DTSTART;TZID=Europe/Budapest:20210506T111500
DTEND;TZID=Europe/Budapest:20210506T112500
DESCRIPTION:We understand that Covid-19 has had a huge impact on teaching a
 cross the world. As in many world countries\, as part of the consequences 
 of the Covid-19 pandemic lockdown Lithuanian police school closed the cont
 act (practical) teaching in March 2020. In 2021 February it re-opened only
  partially. Teachers were confronted with the need to adapt to online teac
 hing. First\, we used different types of digital teaching and learning pla
 tforms to look for the best one that suits to our needs. Second\, rearrang
 ing schedules of the training that could be provided online. Later after t
 he practical teaching was partly re-opened we had to control the eye-on-ey
 e contact before\, during and after the classes with the students and teac
 hers to avoid or to minimize to the lowest level the unnecessary contact. 
 And the last step of the process during pandemic – actions that need to 
 be taken in the school after a teacher or the student has got a positive C
 ovid-19 test.
DTSTAMP:20210426T125003Z
LOCATION:Training and Education during after the Pandemic Crisis
SUMMARY:Training and Education during Pandemic Crisis - Vilius Motiejaitis
URL:https://conference.cepol.europa.eu/cepol-online-conference-2021/talk/JC
 CGMR/
END:VEVENT
END:VCALENDAR
