BEGIN:VCALENDAR
VERSION:2.0
PRODID:-//pretalx//pretalx.com//3ZCKPQ
BEGIN:VTIMEZONE
TZID:Europe/Budapest
BEGIN:STANDARD
DTSTART:20001029T030000
RRULE:FREQ=YEARLY;BYDAY=-1SU;BYMONTH=10
TZNAME:CET
TZOFFSETFROM:+0200
TZOFFSETTO:+0100
END:STANDARD
BEGIN:DAYLIGHT
DTSTART:20000326T020000
RRULE:FREQ=YEARLY;BYDAY=-1SU;BYMONTH=3
TZNAME:CEST
TZOFFSETFROM:+0100
TZOFFSETTO:+0200
END:DAYLIGHT
END:VTIMEZONE
BEGIN:VEVENT
UID:pretalx-cepol-online-conference-2021-3ZCKPQ@conference.cepol.europa.eu
DTSTART;TZID=Europe/Budapest:20210505T110000
DTEND;TZID=Europe/Budapest:20210505T112000
DESCRIPTION:After one year of COVID- 19 pandemic\, Law Enforcement Agencies
  (LEA’s) are ready to asses how this extraordinary situation has affecct
 ed to criminality. New opportunities have arised for criminals at the same
  time that many traditional “modus operandi” have become almost imposs
 ible to be carried on.\nThe objetive of the presentation would be to highl
 ight the main changes in criminal patterns\, in Spain\, during the COVID-1
 9 crisis\, and focus on the impact of the pandemic on policing and law enf
 orcement. \nSeveral graphics and charts would be showed using the POWER BI
  TOOL. This tool has been developed by Spanish National Police (after free
  software solutions)\, and allows to identfy trends and patterns in crimin
 ality\, both in criminal areas and geographicaly.\nMain conclusions would 
 be presented:\n-	The current crisis has affected present and future crimin
 al scenarios.\n-	Cybercrime\, counterfeitedgoods\, on-line fraud and scams
  are some of the most affected criminal types.\n-	Lockdown has had an enor
 mous influence.\n-	LEA’s have been forced to adapt their ressources and 
 methods.\n-	International collaboration and operational cooperation apppea
 r to be essential.\n-	Training and sharing of best practisses must be prov
 ided.\nKeywords: Pandemic\, pattern\, trend\, prospective\, threat\, futur
 e steps.
DTSTAMP:20210425T084101Z
LOCATION:Changing Crime Patterns
SUMMARY:COVID-19 CRIME IMPACT - Enrique Aguilar Serrano
URL:https://conference.cepol.europa.eu/cepol-online-conference-2021/talk/3Z
 CKPQ/
END:VEVENT
END:VCALENDAR
