BEGIN:VCALENDAR
VERSION:2.0
PRODID:-//pretalx//pretalx.com//CAEJX9
BEGIN:VTIMEZONE
TZID:Europe/Budapest
BEGIN:STANDARD
DTSTART:20001029T030000
RRULE:FREQ=YEARLY;BYDAY=-1SU;BYMONTH=10
TZNAME:CET
TZOFFSETFROM:+0200
TZOFFSETTO:+0100
END:STANDARD
BEGIN:DAYLIGHT
DTSTART:20000326T020000
RRULE:FREQ=YEARLY;BYDAY=-1SU;BYMONTH=3
TZNAME:CEST
TZOFFSETFROM:+0100
TZOFFSETTO:+0200
END:DAYLIGHT
END:VTIMEZONE
BEGIN:VEVENT
UID:pretalx-cepol-online-conference-2021-CAEJX9@conference.cepol.europa.eu
DTSTART;TZID=Europe/Budapest:20210506T120000
DTEND;TZID=Europe/Budapest:20210506T122000
DESCRIPTION:Since the beginning of the COVID 19 pandemic crisis\, one of th
 e main challenges in the Lisbon Community Policing (CP) model relates to t
 he need of developing police and community capacity building in the delive
 ry of Community Policing training. This policing model implemented by the 
 Lisbon Municipal Police (LMP)\, embodies the integrated and bottom-up appr
 oaches that have been crucial to set in place responses to tackle local se
 curity concerns\, engaging citizens and local partners to work with the po
 lice as co-producers of community safety. When the pandemic crisis began\,
  some of the CP projects were in a planning phase\, with the training prog
 ram finished but missing the delivery of the training course. Due to the p
 andemic restrictions\, a new strategy for its delivery was urgently needed
 . \nThe LMP was therefore “obliged” to innovate and make this process 
 more flexible\, with an approach that combines online educational processe
 s with the traditional methods. Considering that the training strategy of 
 LMP has been focusing not only on the development of professional skills (
 “learning to learn” and “learning to do”)\, but also in the develo
 pment of personal and social skills ( “learning to be”)\, allowing pol
 ice officers to deal with new urban security problems and social conflict 
 situations – being this latter dimension more difficult to be introduced
  in an online format – it was urgent to design captivating formative dig
 ital responses\, with the intelligent integration of gaming\, in a permane
 nt trainer-trainee interaction\, promoting the motivation for learning and
  facilitating the contents acquisition. Flexibility was fundamental for th
 e police organization to be able to cope with the new and demanding challe
 nges faced in the last year. At the same time\, a new challenge to the tra
 ining strategy was also rising. The results of a recent research carried o
 ut by the LMP on the CP model under the H2020 Project CCI-Cutting Crime Im
 pact\, revealed the need of senior level police officers to be actively in
 volved in the training planning\, in order to ensure support to this model
  of policing often seen by the police organization as social work rather t
 han real police work.
DTSTAMP:20210425T084339Z
LOCATION:Training and Education during after the Pandemic Crisis
SUMMARY:Lisbon community policing training strategy - Out running COVID-19 
 Crisis from a safety distance - Cláudia Santa Cruz\, Monica Diniz\, José
  Antunes Fernandes
URL:https://conference.cepol.europa.eu/cepol-online-conference-2021/talk/CA
 EJX9/
END:VEVENT
END:VCALENDAR
