BEGIN:VCALENDAR
VERSION:2.0
PRODID:-//pretalx//pretalx.com//EL83FW
BEGIN:VTIMEZONE
TZID:Europe/Budapest
BEGIN:STANDARD
DTSTART:20001029T030000
RRULE:FREQ=YEARLY;BYDAY=-1SU;BYMONTH=10
TZNAME:CET
TZOFFSETFROM:+0200
TZOFFSETTO:+0100
END:STANDARD
BEGIN:DAYLIGHT
DTSTART:20000326T020000
RRULE:FREQ=YEARLY;BYDAY=-1SU;BYMONTH=3
TZNAME:CEST
TZOFFSETFROM:+0100
TZOFFSETTO:+0200
END:DAYLIGHT
END:VTIMEZONE
BEGIN:VEVENT
UID:pretalx-cepol-online-conference-2021-EL83FW@conference.cepol.europa.eu
DTSTART;TZID=Europe/Budapest:20210505T123000
DTEND;TZID=Europe/Budapest:20210505T125000
DESCRIPTION:Presenting some initial findings from an ESRC funded project co
 ncerned with criminal justice responses to domestic abuse 2020-21 in this 
 paper we focus on some of the short term wins and longer-term consequences
  of policing responses to domestic abuse initiative during the first lockd
 own in March 2020 and their ongoing utility since. Considered against the 
 backcloth of what might count as 'innovation' this paper will consider the
 se practices in the context of the longer-term processes of modernisation 
 of policing on the one hand and police inter-connectedness with other bran
 ches of the criminal justice system on the other. The paper will conclude 
 with some reflections on the lessons that might be learned from 2020-21 fo
 r responses to domestic abuse more generally. (120 words)
DTSTAMP:20210425T084155Z
LOCATION:Lessons (to be) Learnt for Management and Organisation
SUMMARY:Domestic abuse: policing innovations during the pandemic. Lessons f
 rom England and Wales. - Sandra Walkate
URL:https://conference.cepol.europa.eu/cepol-online-conference-2021/talk/EL
 83FW/
END:VEVENT
END:VCALENDAR
