BEGIN:VCALENDAR
VERSION:2.0
PRODID:-//pretalx//pretalx.com//JXNEHC
BEGIN:VTIMEZONE
TZID:Europe/Budapest
BEGIN:STANDARD
DTSTART:20001029T030000
RRULE:FREQ=YEARLY;BYDAY=-1SU;BYMONTH=10
TZNAME:CET
TZOFFSETFROM:+0200
TZOFFSETTO:+0100
END:STANDARD
BEGIN:DAYLIGHT
DTSTART:20000326T020000
RRULE:FREQ=YEARLY;BYDAY=-1SU;BYMONTH=3
TZNAME:CEST
TZOFFSETFROM:+0100
TZOFFSETTO:+0200
END:DAYLIGHT
END:VTIMEZONE
BEGIN:VEVENT
UID:pretalx-cepol-online-conference-2021-JXNEHC@conference.cepol.europa.eu
DTSTART;TZID=Europe/Budapest:20210506T093500
DTEND;TZID=Europe/Budapest:20210506T095500
DESCRIPTION:Measures designed to prevent the spread of SARS-CoV2 included a
  series of actions that contributed to the amplification of social tension
 s (traffic restrictions\, limitation of income sources\, adjacent economic
  shortages\, return to the country of a large number of Romanian citizens\
 , and the amount of fines for violating the restrictions provided by the m
 ilitary ordinances)\, some of which affected the activity of the police. T
 herefore\, police had to face new threats and to ensure the respect of a w
 ide range of limitations in regard to people’s conduct and public order.
  This article will analyse the specific challenges faced by the police in 
 the period following the spread of Covid-19\, mainly during the lockdown i
 nstalled in Romania\, challenges directly related to the measures adopted\
 , the changes in the daily routine and the necessary actions to limit and 
 eliminate the pandemic’s negative effects. More specific\, the article a
 nalyses the group conflicts that have risen during lockdown and aggressive
  conduct towards Police determined by the enforcement of rules meant to li
 mit the pandemic in different areas of the country. The paper pays a large
  amount of attention to the ways in which the Romanian Police approached t
 hese cases\, their implication and elaborates a set of necessary measures 
 Police needs to implement in order to properly manage them.
DTSTAMP:20210425T084523Z
LOCATION:Public Relations and Public Order
SUMMARY:New challenges for Police during the pandemics and specific actions
  to counteract them in Romania - Andreea Jantea
URL:https://conference.cepol.europa.eu/cepol-online-conference-2021/talk/JX
 NEHC/
END:VEVENT
END:VCALENDAR
