BEGIN:VCALENDAR
VERSION:2.0
PRODID:-//pretalx//pretalx.com//KVSUGF
BEGIN:VTIMEZONE
TZID:Europe/Budapest
BEGIN:STANDARD
DTSTART:20001029T030000
RRULE:FREQ=YEARLY;BYDAY=-1SU;BYMONTH=10
TZNAME:CET
TZOFFSETFROM:+0200
TZOFFSETTO:+0100
END:STANDARD
BEGIN:DAYLIGHT
DTSTART:20000326T020000
RRULE:FREQ=YEARLY;BYDAY=-1SU;BYMONTH=3
TZNAME:CEST
TZOFFSETFROM:+0100
TZOFFSETTO:+0200
END:DAYLIGHT
END:VTIMEZONE
BEGIN:VEVENT
UID:pretalx-cepol-online-conference-2021-KVSUGF@conference.cepol.europa.eu
DTSTART;TZID=Europe/Budapest:20210506T092500
DTEND;TZID=Europe/Budapest:20210506T093000
DESCRIPTION:Perhaps there is no dispute that during crises\, and especially
  global crises\, social crisis communication requires a high degree of com
 mitment to the public and communities. In times of health emergencies\, ef
 fective communication\, which in this case means epidemic-risk communicati
 on\, cannot be a one-way communication\, it should be based on dialogue an
 d has to be a process of wide-ranging multi-stakeholder information- and o
 pinion exchange. Its purpose should not be solely to communicate rules and
  statistics data and to express expected behaviours. The pandemic-related 
 police communication is expected to strengthen\, amongst others\, (public)
  trust\, encourage the proper behaviour\, help the civilians with their de
 cision-making\, provide an opportunity to articulate their concerns and do
 ubts\, and respond to them professionally and authentically. On 31st Janua
 ry in 2020\, the Hungarian Government decided to establish the Operational
  Group responsible for defending and managing the coronavirus epidemic. Ti
 ll now\, the daily press conferences of this Unit were (and still are) the
  base for informing the citizens. The press conference genre has been take
 n to a new level by restriction of journalists and exclusion of spontaneou
 s questions\, that cannot be asked directly yet. The Operational Group sel
 ects the questions and mediums which are worthy of answers. In my presenta
 tion\, the societal expectations with the experienced (governmental and po
 lice) practice will be analysed\, comparing it with the general principles
  included in the work of theoretical experts of crisis communication.
DTSTAMP:20210425T084309Z
LOCATION:Public Relations and Public Order
SUMMARY:What society expects and receives – The press conferences of the 
 Operational Group during the SARS-COVID-19 pandemic - Edina Kriskó
URL:https://conference.cepol.europa.eu/cepol-online-conference-2021/talk/KV
 SUGF/
END:VEVENT
END:VCALENDAR
