BEGIN:VCALENDAR
VERSION:2.0
PRODID:-//pretalx//pretalx.com//Q8BZWL
BEGIN:VTIMEZONE
TZID:Europe/Budapest
BEGIN:STANDARD
DTSTART:20001029T030000
RRULE:FREQ=YEARLY;BYDAY=-1SU;BYMONTH=10
TZNAME:CET
TZOFFSETFROM:+0200
TZOFFSETTO:+0100
END:STANDARD
BEGIN:DAYLIGHT
DTSTART:20000326T020000
RRULE:FREQ=YEARLY;BYDAY=-1SU;BYMONTH=3
TZNAME:CEST
TZOFFSETFROM:+0100
TZOFFSETTO:+0200
END:DAYLIGHT
END:VTIMEZONE
BEGIN:VEVENT
UID:pretalx-cepol-online-conference-2021-Q8BZWL@conference.cepol.europa.eu
DTSTART;TZID=Europe/Budapest:20210506T113000
DTEND;TZID=Europe/Budapest:20210506T115000
DESCRIPTION:The development of the Basic Training for the European Border a
 nd Coast Guard Standing Corps was in the final stage when the pandemic cri
 ses hit all of us dramatically in early 2020\, and forced to find alternat
 ive solutions in carrying out the training in new circumstances. Urgent ac
 tions were needed to re-design the implementation of the Basic Training\, 
 as the situation at the external borders of the EU did not allow to compro
 mise the rapid establishment of the Standing Corps.\nEstablishment of the 
 European Border and Coast Guard Standing Corps has been recently the most 
 visible change in the European approach in the management of the EU extern
 al borders. The political decision of the EU to have its own law enforceme
 nt officers for border protection and migration management and return-rela
 ted tasks\, has manifested a paradigm shift\, also in the area of training
  and education. The European Border and Coast Guard Agency (Frontex) has a
  leading role in capacity building\, for example in terms of providing tra
 ining for the members of the Category 1.  The Agency Regulation provides a
  legal basis for the statutory staff of the Standing Corps\, in particular
  highlighting the importance of training based on common values and cultur
 e\, and respect of fundamental rights.  Furthermore\, emphasis is given to
  harmonising the training programme with the Frontex common core curricula
 . Utilising the common core curricula as a basis\, means that the core com
 petences and training provided to the Standing Corps are in harmony with t
 he ones delivered by Member States to the national border and coast guards
 . The European dimension of the Standing Corps training is underpinned by 
 the legal and ethical responsibilities of the Agency to ensure that the me
 mbers of the Standing Corps are well trained and fully prepared to perform
  tasks with executive powers. \nThe conference paper explores the training
  and education solutions chosen at the time when the pandemic hit this act
 ivity and forced to change the training methods immediately and significan
 tly. The good practices and lessons learnt will certainly play a key role 
 when establishing the “new normal” in training and education.
DTSTAMP:20210425T084350Z
LOCATION:Training and Education during after the Pandemic Crisis
SUMMARY:Towards Common Values and Culture – Challenges and Solutions in D
 eveloping the Basic Training of the European Standing Corps in Pandemic. -
  Iwona Frankowska
URL:https://conference.cepol.europa.eu/cepol-online-conference-2021/talk/Q8
 BZWL/
END:VEVENT
END:VCALENDAR
