BEGIN:VCALENDAR
VERSION:2.0
PRODID:-//pretalx//pretalx.com//SP8DHE
BEGIN:VTIMEZONE
TZID:Europe/Budapest
BEGIN:STANDARD
DTSTART:20001029T030000
RRULE:FREQ=YEARLY;BYDAY=-1SU;BYMONTH=10
TZNAME:CET
TZOFFSETFROM:+0200
TZOFFSETTO:+0100
END:STANDARD
BEGIN:DAYLIGHT
DTSTART:20000326T020000
RRULE:FREQ=YEARLY;BYDAY=-1SU;BYMONTH=3
TZNAME:CEST
TZOFFSETFROM:+0100
TZOFFSETTO:+0200
END:DAYLIGHT
END:VTIMEZONE
BEGIN:VEVENT
UID:pretalx-cepol-online-conference-2021-SP8DHE@conference.cepol.europa.eu
DTSTART;TZID=Europe/Budapest:20210506T103000
DTEND;TZID=Europe/Budapest:20210506T105000
DESCRIPTION:The Covid-19 pandemic\, and the recovery measures introduced by
  countries across the world to face the current economic crisis\, have pro
 vided opportunities to organised crime (OC) groups to infiltrate the legit
 imate economy\, take control of legitimate businesses and profiting from t
 he current emergency situation. In particular\, the following patterns cou
 ld be observed: (i) acquisition of firms in financial distress operating i
 n sectors heavily affected by the crisis (e.g. hotels and restaurants)\; (
 ii) interest towards sectors pumped by the Covid-19 related lockdown (e.g.
  transport and logistics\, cleaning services\, trade of medical devices an
 d pharmaceuticals)\; (iii) illicit lending and usury to entrepreneurs lack
 ing liquidity\; (iv) acquisition of recovery funds and public subsidies th
 rough fraud and accounting manipulations. By providing case studies and em
 pirical data in selected countries\, this paper will provide an insight of
  the changing patterns in the OC economic strategy as a consequence of the
  Covid-19 pandemic\, and discuss potential prevention and investigation st
 rategies to curb and mitigate this risk.
DTSTAMP:20210425T084258Z
LOCATION:Featured Presentations
SUMMARY:Organised crime infiltration in the Covid-19 economy: emerging sche
 mes and possible prevention strategies - Michele Riccardi
URL:https://conference.cepol.europa.eu/cepol-online-conference-2021/talk/SP
 8DHE/
END:VEVENT
END:VCALENDAR
