BEGIN:VCALENDAR
VERSION:2.0
PRODID:-//pretalx//pretalx.com//YDWMVT
BEGIN:VTIMEZONE
TZID:Europe/Budapest
BEGIN:STANDARD
DTSTART:20001029T030000
RRULE:FREQ=YEARLY;BYDAY=-1SU;BYMONTH=10
TZNAME:CET
TZOFFSETFROM:+0200
TZOFFSETTO:+0100
END:STANDARD
BEGIN:DAYLIGHT
DTSTART:20000326T020000
RRULE:FREQ=YEARLY;BYDAY=-1SU;BYMONTH=3
TZNAME:CEST
TZOFFSETFROM:+0100
TZOFFSETTO:+0200
END:DAYLIGHT
END:VTIMEZONE
BEGIN:VEVENT
UID:pretalx-cepol-online-conference-2021-YDWMVT@conference.cepol.europa.eu
DTSTART;TZID=Europe/Budapest:20210505T103000
DTEND;TZID=Europe/Budapest:20210505T105000
DESCRIPTION:The police usually present themselves as a service to the socie
 ty. The public has become accustomed to seeing police officers on the medi
 a solving crimes successfully\, helping and rescuing people in various acc
 idents\, saving animals. Positive presenting of police in the media\, toge
 ther with improved police work quality\, contributed to the long-term tren
 d of rising trust and confidence in Lithuanian police.\nDuring the COVID p
 andemic the police were tasked with ensuring the introduction of restricti
 ons on movement and social distancing\, compliance with quarantine rules\,
  which had to ensure a slower spread of the virus. Police have also starte
 d to provide fewer contact services\, less engaged in direct face-to-face 
 contacts during crime investigations. Reduction of the visibility of the p
 ositive police work\, gave the impression that the police are working less
  and worse on crime investigation.\nThe research is based on the analysis 
 of the content of Lithuanian news portals and data of Lithuanian public op
 inion surveys about perceptions of public security in 2006-2020. The data 
 shows that during the Pandemic\, the image of the police is changing - fro
 m a positive of defending\, protecting\, helping institution\, to negative
 \, as mass public control institution. The police are forced to enforce th
 e quarantine\, movement restrictions\, punish non-compliance with quaranti
 ne rules. Influenced by the media and changed nature of police contacts\, 
 public attitudes towards the police are changing\, with consequences for p
 ublic safety situation.
DTSTAMP:20210425T013943Z
LOCATION:Featured Presentations
SUMMARY:Changing police image and perception of police in pandemic times - 
 Evaldas Visockas
URL:https://conference.cepol.europa.eu/cepol-online-conference-2021/talk/YD
 WMVT/
END:VEVENT
END:VCALENDAR
