BEGIN:VCALENDAR
VERSION:2.0
PRODID:-//pretalx//pretalx.com//Z9ADBX
BEGIN:VTIMEZONE
TZID:Europe/Budapest
BEGIN:STANDARD
DTSTART:20001029T030000
RRULE:FREQ=YEARLY;BYDAY=-1SU;BYMONTH=10
TZNAME:CET
TZOFFSETFROM:+0200
TZOFFSETTO:+0100
END:STANDARD
BEGIN:DAYLIGHT
DTSTART:20000326T020000
RRULE:FREQ=YEARLY;BYDAY=-1SU;BYMONTH=3
TZNAME:CEST
TZOFFSETFROM:+0100
TZOFFSETTO:+0200
END:DAYLIGHT
END:VTIMEZONE
BEGIN:VEVENT
UID:pretalx-cepol-online-conference-2021-Z9ADBX@conference.cepol.europa.eu
DTSTART;TZID=Europe/Budapest:20210505T100000
DTEND;TZID=Europe/Budapest:20210505T103000
DESCRIPTION:A COVID-19 virus pandemic spread globally within months since e
 arly 2020.  It has affected practically all societies and all sectors of l
 ife. Also secondary level and higher education have had to undergo dramati
 c changes.\nFinland took heavy steps to fight the epidemic: the government
  declared a state of emergency in mid-March 2020\, and all education insti
 tutions were closed for two months.  Lighter limitations have been in effe
 ct ever since. Police University College\, the only police education insti
 tution in the country\, transferred approx. 75 % of teaching in degree pro
 grammes into distance mode within weeks. Not surprisingly\, a large part o
 f these activities was relatively improvised at the early phase.  However\
 , the quality of teaching has allegedly improved with time.  Simultaneousl
 y\, practical training soon continued\, although only in modified smaller 
 student groups.\nThis presentation aims to provide an early assessment of 
 the experiences of COVID-19 epidemic from a police education viewpoint.  A
 lready at this early stage a few lessons are obvious: 1) teachers' compete
 ncies in distance teaching have improved considerably\, 2) confusion of th
 e pros and cons of different platforms has faded away\, 3) students' expec
 tations concerning distance learning have increased\, 4) the hype around d
 igital paedagogy has vanished\, and 5) conceptions of what cannot or shoul
 d not be taught virtually have improved.  Some questions remain and answer
 ing them will require a deeper analysis.  The following are examples: 1) H
 ow does increased distance learning influence socialization of future poli
 ce officers?  2) Does a digital approach to police education affect teamwo
 rk skills and the mutual trust of future police officers? 3) Is it possibl
 e to condition police students into appropriate values and attitudes virtu
 ally?  Based on these considerations an attempt is made to pave the way to
 wards future police education.
DTSTAMP:20210425T013927Z
LOCATION:Featured Presentations
SUMMARY:COVID-19: The legacy of the pandemic in police education - Kimmo Hi
 mberg
URL:https://conference.cepol.europa.eu/cepol-online-conference-2021/talk/Z9
 ADBX/
END:VEVENT
END:VCALENDAR
